Package: countsimQC Version: 1.29.0 Command: /home/biocbuild/bbs-3.23-bioc/R/bin/R CMD INSTALL countsimQC StartedAt: 2025-11-05 15:35:09 -0500 (Wed, 05 Nov 2025) EndedAt: 2025-11-05 15:35:40 -0500 (Wed, 05 Nov 2025) EllapsedTime: 30.8 seconds RetCode: 0 Status: OK