Package: countsimQC Version: 1.29.0 Command: /home/biocbuild/bbs-3.23-bioc/R/bin/R CMD check --install=check:countsimQC.install-out.txt --library=/home/biocbuild/bbs-3.23-bioc/R/site-library --timings countsimQC_1.29.0.tar.gz StartedAt: 2025-11-23 22:22:55 -0500 (Sun, 23 Nov 2025) EndedAt: 2025-11-23 22:32:10 -0500 (Sun, 23 Nov 2025) EllapsedTime: 555.7 seconds RetCode: 0 Status: OK CheckDir: countsimQC.Rcheck Warnings: 0