Package: cosmosR Version: 1.17.0 Command: /home/biocbuild/R/R/bin/R CMD INSTALL cosmosR StartedAt: 2025-10-16 21:42:38 -0000 (Thu, 16 Oct 2025) EndedAt: 2025-10-16 21:42:48 -0000 (Thu, 16 Oct 2025) EllapsedTime: 10.1 seconds RetCode: 0 Status: OK