Package: cosmosR Version: 1.17.0 Command: /home/biocbuild/bbs-3.22-bioc/R/bin/R CMD check --install=check:cosmosR.install-out.txt --library=/home/biocbuild/bbs-3.22-bioc/R/site-library --timings cosmosR_1.17.0.tar.gz StartedAt: 2025-10-22 22:34:45 -0400 (Wed, 22 Oct 2025) EndedAt: 2025-10-22 22:36:07 -0400 (Wed, 22 Oct 2025) EllapsedTime: 82.1 seconds RetCode: 0 Status: OK CheckDir: cosmosR.Rcheck Warnings: 0