Package: cosmosR Version: 1.17.0 Command: /Library/Frameworks/R.framework/Resources/bin/R CMD INSTALL cosmosR StartedAt: 2025-09-30 15:24:54 -0400 (Tue, 30 Sep 2025) EndedAt: 2025-09-30 15:25:05 -0400 (Tue, 30 Sep 2025) EllapsedTime: 11.7 seconds RetCode: 0 Status: OK