Package: cosmosR Version: 1.17.0 Command: /Library/Frameworks/R.framework/Resources/bin/R CMD build --keep-empty-dirs --no-resave-data cosmosR StartedAt: 2025-09-29 16:29:58 -0400 (Mon, 29 Sep 2025) EndedAt: 2025-09-29 16:30:22 -0400 (Mon, 29 Sep 2025) EllapsedTime: 23.9 seconds RetCode: 0 Status: OK PackageFile: cosmosR_1.17.0.tar.gz PackageFileSize: 3.365 MiB