Package: cosmosR Version: 1.17.0 Command: rm -rf cosmosR.buildbin-libdir && mkdir cosmosR.buildbin-libdir && /Users/biocbuild/BBS/utils/build-universal.sh cosmosR_1.17.0.tar.gz /Library/Frameworks/R.framework/Resources/bin/R cosmosR.buildbin-libdir StartedAt: 2025-09-30 01:37:36 -0400 (Tue, 30 Sep 2025) EndedAt: 2025-09-30 01:37:50 -0400 (Tue, 30 Sep 2025) EllapsedTime: 14.0 seconds RetCode: 0 Status: OK PackageFile: cosmosR_1.17.0.tgz PackageFileSize: 3.448 MiB