Package: cosmiq Version: 1.43.0 Command: /home/biocbuild/R/R/bin/R CMD INSTALL cosmiq StartedAt: 2025-10-23 21:11:21 -0000 (Thu, 23 Oct 2025) EndedAt: 2025-10-23 21:12:16 -0000 (Thu, 23 Oct 2025) EllapsedTime: 55.4 seconds RetCode: 0 Status: OK