Package: cosmiq Version: 1.45.0 Command: /home/biocbuild/bbs-3.23-bioc/R/bin/R CMD build --keep-empty-dirs --no-resave-data cosmiq StartedAt: 2025-11-20 16:59:39 -0500 (Thu, 20 Nov 2025) EndedAt: 2025-11-20 17:02:02 -0500 (Thu, 20 Nov 2025) EllapsedTime: 143.1 seconds RetCode: 0 Status: OK PackageFile: cosmiq_1.45.0.tar.gz PackageFileSize: 541.2 KiB