Package: coseq Version: 1.34.0 Command: /home/biocbuild/bbs-3.22-bioc/R/bin/R CMD check --install=check:coseq.install-out.txt --library=/home/biocbuild/bbs-3.22-bioc/R/site-library --timings coseq_1.34.0.tar.gz StartedAt: 2025-10-30 04:45:59 -0400 (Thu, 30 Oct 2025) EndedAt: 2025-10-30 04:53:21 -0400 (Thu, 30 Oct 2025) EllapsedTime: 442.4 seconds RetCode: 0 Status: OK CheckDir: coseq.Rcheck Warnings: 0