Package: coseq Version: 1.35.0 Command: /home/biocbuild/bbs-3.23-bioc/R/bin/R CMD INSTALL coseq StartedAt: 2025-11-05 15:28:49 -0500 (Wed, 05 Nov 2025) EndedAt: 2025-11-05 15:29:21 -0500 (Wed, 05 Nov 2025) EllapsedTime: 31.7 seconds RetCode: 0 Status: OK