Package: coseq Version: 1.33.0 Command: /Library/Frameworks/R.framework/Resources/bin/R CMD INSTALL coseq StartedAt: 2025-10-05 15:22:07 -0400 (Sun, 05 Oct 2025) EndedAt: 2025-10-05 15:22:51 -0400 (Sun, 05 Oct 2025) EllapsedTime: 43.4 seconds RetCode: 0 Status: OK