Package: corral Version: 1.21.0 Command: /home/biocbuild/bbs-3.23-bioc/R/bin/R CMD INSTALL corral StartedAt: 2025-11-06 15:32:50 -0500 (Thu, 06 Nov 2025) EndedAt: 2025-11-06 15:33:17 -0500 (Thu, 06 Nov 2025) EllapsedTime: 26.5 seconds RetCode: 0 Status: OK