Package: corral Version: 1.21.0 Command: /home/biocbuild/bbs-3.23-bioc/R/bin/R CMD build --keep-empty-dirs --no-resave-data corral StartedAt: 2025-11-06 16:55:39 -0500 (Thu, 06 Nov 2025) EndedAt: 2025-11-06 17:08:41 -0500 (Thu, 06 Nov 2025) EllapsedTime: 782.8 seconds RetCode: 0 Status: OK PackageFile: corral_1.21.0.tar.gz PackageFileSize: 2.022 MiB