Package: corral Version: 1.19.0 Command: /Library/Frameworks/R.framework/Resources/bin/R CMD INSTALL corral StartedAt: 2025-10-22 15:18:59 -0400 (Wed, 22 Oct 2025) EndedAt: 2025-10-22 15:19:10 -0400 (Wed, 22 Oct 2025) EllapsedTime: 11.1 seconds RetCode: 0 Status: OK