Package: corral Version: 1.19.0 Command: /Library/Frameworks/R.framework/Resources/bin/R CMD build --keep-empty-dirs --no-resave-data corral StartedAt: 2025-10-22 16:01:44 -0400 (Wed, 22 Oct 2025) EndedAt: 2025-10-22 16:08:24 -0400 (Wed, 22 Oct 2025) EllapsedTime: 400.6 seconds RetCode: 0 Status: OK PackageFile: corral_1.19.0.tar.gz PackageFileSize: 2.053 MiB