Package: corral Version: 1.19.0 Command: rm -rf corral.buildbin-libdir && mkdir corral.buildbin-libdir && /Users/biocbuild/BBS/utils/build-universal.sh corral_1.19.0.tar.gz /Library/Frameworks/R.framework/Resources/bin/R corral.buildbin-libdir StartedAt: 2025-10-23 23:05:29 -0400 (Thu, 23 Oct 2025) EndedAt: 2025-10-23 23:05:43 -0400 (Thu, 23 Oct 2025) EllapsedTime: 13.2 seconds RetCode: 0 Status: OK PackageFile: corral_1.19.0.tgz PackageFileSize: 1.804 MiB