Package: copa Version: 1.79.0 Command: /home/biocbuild/bbs-3.23-bioc/R/bin/R CMD build --keep-empty-dirs --no-resave-data copa StartedAt: 2025-11-20 16:58:04 -0500 (Thu, 20 Nov 2025) EndedAt: 2025-11-20 16:58:12 -0500 (Thu, 20 Nov 2025) EllapsedTime: 8.0 seconds RetCode: 0 Status: OK PackageFile: copa_1.79.0.tar.gz PackageFileSize: 121 KiB