Package: copa Version: 1.77.0 Command: /Library/Frameworks/R.framework/Resources/bin/R CMD INSTALL copa StartedAt: 2025-10-23 15:07:48 -0400 (Thu, 23 Oct 2025) EndedAt: 2025-10-23 15:07:50 -0400 (Thu, 23 Oct 2025) EllapsedTime: 2.0 seconds RetCode: 0 Status: OK