Package: conumee Version: 1.45.0 Command: /home/biocbuild/bbs-3.23-bioc/R/bin/R CMD build --keep-empty-dirs --no-resave-data conumee StartedAt: 2025-11-21 16:58:23 -0500 (Fri, 21 Nov 2025) EndedAt: 2025-11-21 17:04:36 -0500 (Fri, 21 Nov 2025) EllapsedTime: 373.4 seconds RetCode: 0 Status: OK PackageFile: conumee_1.45.0.tar.gz PackageFileSize: 1.248 MiB