Package: consensusSeekeR Version: 1.39.0 Command: /home/biocbuild/bbs-3.23-bioc/R/bin/R CMD INSTALL consensusSeekeR StartedAt: 2025-11-20 15:27:16 -0500 (Thu, 20 Nov 2025) EndedAt: 2025-11-20 15:27:46 -0500 (Thu, 20 Nov 2025) EllapsedTime: 29.8 seconds RetCode: 0 Status: OK