Package: consensusSeekeR Version: 1.37.1 Command: /Library/Frameworks/R.framework/Resources/bin/R CMD INSTALL consensusSeekeR StartedAt: 2025-10-14 15:28:09 -0400 (Tue, 14 Oct 2025) EndedAt: 2025-10-14 15:28:52 -0400 (Tue, 14 Oct 2025) EllapsedTime: 42.9 seconds RetCode: 0 Status: OK