Package: consensusSeekeR Version: 1.37.1 Command: rm -rf consensusSeekeR.buildbin-libdir && mkdir consensusSeekeR.buildbin-libdir && /Users/biocbuild/BBS/utils/build-universal.sh consensusSeekeR_1.37.1.tar.gz /Library/Frameworks/R.framework/Resources/bin/R consensusSeekeR.buildbin-libdir StartedAt: 2025-10-15 02:38:22 -0400 (Wed, 15 Oct 2025) EndedAt: 2025-10-15 02:39:06 -0400 (Wed, 15 Oct 2025) EllapsedTime: 43.8 seconds RetCode: 0 Status: OK PackageFile: consensusSeekeR_1.37.1.tgz PackageFileSize: 614.5 KiB