Package: consensusOV Version: 1.33.0 Command: /home/biocbuild/bbs-3.23-bioc/R/bin/R CMD build --keep-empty-dirs --no-resave-data consensusOV StartedAt: 2025-11-20 16:57:38 -0500 (Thu, 20 Nov 2025) EndedAt: 2025-11-20 17:00:04 -0500 (Thu, 20 Nov 2025) EllapsedTime: 145.1 seconds RetCode: 0 Status: OK PackageFile: consensusOV_1.33.0.tar.gz PackageFileSize: 3.296 MiB