Package: consensusOV Version: 1.31.0 Command: /Library/Frameworks/R.framework/Resources/bin/R CMD INSTALL consensusOV StartedAt: 2025-10-24 15:55:25 -0400 (Fri, 24 Oct 2025) EndedAt: 2025-10-24 15:56:35 -0400 (Fri, 24 Oct 2025) EllapsedTime: 70.0 seconds RetCode: 0 Status: OK