Package: consensusOV Version: 1.31.0 Command: /Library/Frameworks/R.framework/Resources/bin/R CMD build --keep-empty-dirs --no-resave-data consensusOV StartedAt: 2025-10-24 16:38:16 -0400 (Fri, 24 Oct 2025) EndedAt: 2025-10-24 16:40:50 -0400 (Fri, 24 Oct 2025) EllapsedTime: 154.0 seconds RetCode: 0 Status: OK PackageFile: consensusOV_1.31.0.tar.gz PackageFileSize: 3.212 MiB