Package: consensusOV Version: 1.31.0 Command: /Library/Frameworks/R.framework/Resources/bin/R CMD INSTALL consensusOV StartedAt: 2025-10-23 15:29:46 -0400 (Thu, 23 Oct 2025) EndedAt: 2025-10-23 15:30:14 -0400 (Thu, 23 Oct 2025) EllapsedTime: 27.9 seconds RetCode: 0 Status: OK