Package: consensusOV Version: 1.31.0 Command: /Library/Frameworks/R.framework/Resources/bin/R CMD build --keep-empty-dirs --no-resave-data consensusOV StartedAt: 2025-10-21 16:01:58 -0400 (Tue, 21 Oct 2025) EndedAt: 2025-10-21 16:03:02 -0400 (Tue, 21 Oct 2025) EllapsedTime: 63.7 seconds RetCode: 0 Status: OK PackageFile: consensusOV_1.31.0.tar.gz PackageFileSize: 3.212 MiB