Package: consensus Version: 1.29.0 Command: /home/biocbuild/bbs-3.23-bioc/R/bin/R CMD INSTALL consensus StartedAt: 2025-11-20 15:09:55 -0500 (Thu, 20 Nov 2025) EndedAt: 2025-11-20 15:09:59 -0500 (Thu, 20 Nov 2025) EllapsedTime: 4.3 seconds RetCode: 0 Status: OK