Package: consensus Version: 1.29.0 Command: /home/biocbuild/bbs-3.23-bioc/R/bin/R CMD build --keep-empty-dirs --no-resave-data consensus StartedAt: 2025-11-20 16:57:28 -0500 (Thu, 20 Nov 2025) EndedAt: 2025-11-20 16:57:35 -0500 (Thu, 20 Nov 2025) EllapsedTime: 7.0 seconds RetCode: 0 Status: OK PackageFile: consensus_1.29.0.tar.gz PackageFileSize: 970.5 KiB