Package: consensus Version: 1.27.0 Command: /Library/Frameworks/R.framework/Resources/bin/R CMD INSTALL consensus StartedAt: 2025-10-14 15:13:01 -0400 (Tue, 14 Oct 2025) EndedAt: 2025-10-14 15:13:31 -0400 (Tue, 14 Oct 2025) EllapsedTime: 30.4 seconds RetCode: 0 Status: OK