Package: consensus Version: 1.27.0 Command: /Library/Frameworks/R.framework/Resources/bin/R CMD build --keep-empty-dirs --no-resave-data consensus StartedAt: 2025-10-14 16:34:29 -0400 (Tue, 14 Oct 2025) EndedAt: 2025-10-14 16:34:43 -0400 (Tue, 14 Oct 2025) EllapsedTime: 13.7 seconds RetCode: 0 Status: OK PackageFile: consensus_1.27.0.tar.gz PackageFileSize: 970.7 KiB