Package: consensus Version: 1.27.0 Command: /Library/Frameworks/R.framework/Resources/bin/R CMD INSTALL consensus StartedAt: 2025-10-03 15:06:05 -0400 (Fri, 03 Oct 2025) EndedAt: 2025-10-03 15:06:08 -0400 (Fri, 03 Oct 2025) EllapsedTime: 3.4 seconds RetCode: 0 Status: OK