Package: consensus Version: 1.27.0 Command: /Library/Frameworks/R.framework/Resources/bin/R CMD build --keep-empty-dirs --no-resave-data consensus StartedAt: 2025-10-03 15:59:43 -0400 (Fri, 03 Oct 2025) EndedAt: 2025-10-03 15:59:47 -0400 (Fri, 03 Oct 2025) EllapsedTime: 4.0 seconds RetCode: 0 Status: OK PackageFile: consensus_1.27.0.tar.gz PackageFileSize: 970.7 KiB