Package: consensus Version: 1.29.0 Maintainer: Tim Peters MaintainerEmail: t.peters at garvan.org.au git_url: https://git.bioconductor.org/packages/consensus git_branch: devel git_last_commit: 5af026c git_last_commit_date: 2025-10-29 10:46:41 -0400 (Wed, 29 Oct 2025)