Package: consICA Version: 2.7.1 Command: /home/biocbuild/bbs-3.22-bioc/R/bin/R CMD build --keep-empty-dirs --no-resave-data --md5 consICA StartedAt: 2025-09-28 17:08:43 -0400 (Sun, 28 Sep 2025) EndedAt: 2025-09-28 17:14:27 -0400 (Sun, 28 Sep 2025) EllapsedTime: 344.3 seconds RetCode: 0 Status: OK PackageFile: consICA_2.7.1.tar.gz PackageFileSize: 3.49 MiB