Package: consICA Version: 2.9.0 Command: /Library/Frameworks/R.framework/Resources/bin/R CMD INSTALL consICA StartedAt: 2025-11-21 15:20:42 -0500 (Fri, 21 Nov 2025) EndedAt: 2025-11-21 15:20:55 -0500 (Fri, 21 Nov 2025) EllapsedTime: 13.5 seconds RetCode: 0 Status: OK