Package: consICA Version: 2.9.0 Command: rm -rf consICA.buildbin-libdir && mkdir consICA.buildbin-libdir && /Users/biocbuild/BBS/utils/build-universal.sh consICA_2.9.0.tar.gz /Library/Frameworks/R.framework/Resources/bin/R consICA.buildbin-libdir StartedAt: 2025-11-21 23:27:35 -0500 (Fri, 21 Nov 2025) EndedAt: 2025-11-21 23:27:51 -0500 (Fri, 21 Nov 2025) EllapsedTime: 16.3 seconds RetCode: 0 Status: OK PackageFile: consICA_2.9.0.tgz PackageFileSize: 3.143 MiB