Package: condiments Version: 1.17.0 Command: /home/biocbuild/R/R/bin/R CMD INSTALL condiments StartedAt: 2025-10-13 21:49:37 -0000 (Mon, 13 Oct 2025) EndedAt: 2025-10-13 21:50:24 -0000 (Mon, 13 Oct 2025) EllapsedTime: 46.5 seconds RetCode: 0 Status: OK