Package: condiments Version: 1.17.0 Command: /home/biocbuild/R/R/bin/R CMD build --keep-empty-dirs --no-resave-data condiments StartedAt: 2025-10-13 23:22:16 -0000 (Mon, 13 Oct 2025) EndedAt: 2025-10-13 23:26:45 -0000 (Mon, 13 Oct 2025) EllapsedTime: 269.1 seconds RetCode: 0 Status: OK PackageFile: condiments_1.17.0.tar.gz PackageFileSize: 1.391 MiB