Package: condiments Version: 1.17.0 Command: chmod a+r condiments -R && F:\biocbuild\bbs-3.22-bioc\R\bin\R.exe CMD build --keep-empty-dirs --no-resave-data condiments StartedAt: 2025-08-14 19:17:06 -0400 (Thu, 14 Aug 2025) EndedAt: 2025-08-14 19:21:18 -0400 (Thu, 14 Aug 2025) EllapsedTime: 251.2 seconds RetCode: 0 Status: OK PackageFile: condiments_1.17.0.tar.gz PackageFileSize: 1.138 MiB