Package: condiments Version: 1.17.0 Command: rm -rf condiments.buildbin-libdir && mkdir condiments.buildbin-libdir && F:\biocbuild\bbs-3.22-bioc\R\bin\R.exe CMD INSTALL --build --library=condiments.buildbin-libdir condiments_1.17.0.tar.gz StartedAt: 2025-08-15 10:00:52 -0400 (Fri, 15 Aug 2025) EndedAt: 2025-08-15 10:02:04 -0400 (Fri, 15 Aug 2025) EllapsedTime: 71.9 seconds RetCode: 0 Status: OK PackageFile: condiments_1.17.0.zip PackageFileSize: 1.234 MiB