Package: condiments Version: 1.19.0 Command: /home/biocbuild/bbs-3.23-bioc/R/bin/R CMD INSTALL condiments StartedAt: 2025-11-05 16:03:41 -0500 (Wed, 05 Nov 2025) EndedAt: 2025-11-05 16:04:16 -0500 (Wed, 05 Nov 2025) EllapsedTime: 35.3 seconds RetCode: 0 Status: OK