Package: condiments Version: 1.19.0 Command: /home/biocbuild/bbs-3.23-bioc/R/bin/R CMD check --install=check:condiments.install-out.txt --library=/home/biocbuild/bbs-3.23-bioc/R/site-library --timings condiments_1.19.0.tar.gz StartedAt: 2025-11-07 22:12:17 -0500 (Fri, 07 Nov 2025) EndedAt: 2025-11-07 22:21:47 -0500 (Fri, 07 Nov 2025) EllapsedTime: 570.8 seconds RetCode: 0 Status: OK CheckDir: condiments.Rcheck Warnings: 0