Package: condiments Version: 1.19.0 Command: /home/biocbuild/bbs-3.23-bioc/R/bin/R CMD build --keep-empty-dirs --no-resave-data condiments StartedAt: 2025-11-05 17:01:11 -0500 (Wed, 05 Nov 2025) EndedAt: 2025-11-05 17:04:23 -0500 (Wed, 05 Nov 2025) EllapsedTime: 191.2 seconds RetCode: 0 Status: OK PackageFile: condiments_1.19.0.tar.gz PackageFileSize: 1.999 MiB