Package: concordexR Version: 1.11.0 Command: /home/biocbuild/bbs-3.23-bioc/R/bin/R CMD build --keep-empty-dirs --no-resave-data concordexR StartedAt: 2025-11-18 17:49:28 -0500 (Tue, 18 Nov 2025) EndedAt: 2025-11-18 17:50:52 -0500 (Tue, 18 Nov 2025) EllapsedTime: 84.1 seconds RetCode: 0 Status: OK PackageFile: concordexR_1.11.0.tar.gz PackageFileSize: 1.5 MiB