Package: concordexR Version: 1.9.1 Command: /Library/Frameworks/R.framework/Resources/bin/R CMD INSTALL concordexR StartedAt: 2025-10-14 15:26:02 -0400 (Tue, 14 Oct 2025) EndedAt: 2025-10-14 15:26:37 -0400 (Tue, 14 Oct 2025) EllapsedTime: 35.0 seconds RetCode: 0 Status: OK