Package: concordexR Version: 1.9.1 Command: /Library/Frameworks/R.framework/Resources/bin/R CMD build --keep-empty-dirs --no-resave-data concordexR StartedAt: 2025-10-14 16:34:03 -0400 (Tue, 14 Oct 2025) EndedAt: 2025-10-14 16:35:56 -0400 (Tue, 14 Oct 2025) EllapsedTime: 113.2 seconds RetCode: 0 Status: OK PackageFile: concordexR_1.9.1.tar.gz PackageFileSize: 1.545 MiB