Package: concordexR Version: 1.9.1 Command: rm -rf concordexR.buildbin-libdir && mkdir concordexR.buildbin-libdir && /Users/biocbuild/BBS/utils/build-universal.sh concordexR_1.9.1.tar.gz /Library/Frameworks/R.framework/Resources/bin/R concordexR.buildbin-libdir StartedAt: 2025-10-15 02:38:13 -0400 (Wed, 15 Oct 2025) EndedAt: 2025-10-15 02:38:50 -0400 (Wed, 15 Oct 2025) EllapsedTime: 37.0 seconds RetCode: 0 Status: OK PackageFile: concordexR_1.9.1.tgz PackageFileSize: 1.573 MiB