Package: compcodeR Version: 1.47.0 Command: /home/biocbuild/bbs-3.23-bioc/R/bin/R CMD INSTALL compcodeR StartedAt: 2025-10-31 15:16:09 -0400 (Fri, 31 Oct 2025) EndedAt: 2025-10-31 15:16:40 -0400 (Fri, 31 Oct 2025) EllapsedTime: 30.7 seconds RetCode: 0 Status: OK